BEGIN:VCALENDAR
VERSION:2.0
CALSCALE:GREGORIAN
METHOD:PUBLISH
X-WR-TIMEZONE:Australia/Sydney
BEGIN:VTIMEZONE
TZID:Australia/Sydney
BEGIN:STANDARD
TZNAME:AEST
END:STANDARD
END:VTIMEZONE
BEGIN:VEVENT
DTSTART;TZID=Australia/Sydney:20260402
DTEND;TZID=Australia/Sydney:20260402
DTSTAMP:20260425T005823
UID:186
SUMMARY:Last Day of Term 1 
DESCRIPTION:




End of Term Sushi Lunch!Free Dress, gold coin donationEarly Dismissal today @ 2:30pm&amp;nbsp;


SEQUENCE:0
STATUS:CONFIRMED
TRANSP:OPAQUE
END:VEVENT
END:VCALENDAR