BEGIN:VCALENDAR
VERSION:2.0
CALSCALE:GREGORIAN
METHOD:PUBLISH
X-WR-TIMEZONE:Australia/Sydney
BEGIN:VTIMEZONE
TZID:Australia/Sydney
BEGIN:STANDARD
TZNAME:AEST
END:STANDARD
END:VTIMEZONE
BEGIN:VEVENT
DTSTART;TZID=Australia/Sydney:20260401
DTEND;TZID=Australia/Sydney:20260401
DTSTAMP:20260425T005259
UID:193
SUMMARY:FEPS Colour Run!
DESCRIPTION:




Date: Wednesday the 1st of April
Time: 2:30-3:30pm
Location: Frankston East School Oval
Families are invited to come and watch!
Sign up and start collecting donations, afunds raised will go towards our school!


SEQUENCE:0
STATUS:CONFIRMED
TRANSP:OPAQUE
END:VEVENT
END:VCALENDAR