BEGIN:VCALENDAR
VERSION:2.0
CALSCALE:GREGORIAN
METHOD:PUBLISH
X-WR-TIMEZONE:Australia/Sydney
BEGIN:VTIMEZONE
TZID:Australia/Sydney
BEGIN:STANDARD
TZNAME:AEST
END:STANDARD
END:VTIMEZONE
BEGIN:VEVENT
DTSTART;TZID=Australia/Sydney:20260507
DTEND;TZID=Australia/Sydney:20260507
DTSTAMP:20260424T003605
UID:198
SUMMARY:Mothers Day Coffee Van
DESCRIPTION:




Mums, Carers and special family members are invited to enjoy a free coffee and pastry from the Volks Coffee Van from 8am


SEQUENCE:0
STATUS:CONFIRMED
TRANSP:OPAQUE
END:VEVENT
END:VCALENDAR